BEGIN:VCALENDAR
VERSION:2.0
PRODID:-//Catholic Medical Association - ECPv6.15.20//NONSGML v1.0//EN
CALSCALE:GREGORIAN
METHOD:PUBLISH
X-ORIGINAL-URL:https://cmacbus.com
X-WR-CALDESC:Events for Catholic Medical Association
REFRESH-INTERVAL;VALUE=DURATION:PT1H
X-Robots-Tag:noindex
X-PUBLISHED-TTL:PT1H
BEGIN:VTIMEZONE
TZID:UTC
BEGIN:STANDARD
TZOFFSETFROM:+0000
TZOFFSETTO:+0000
TZNAME:UTC
DTSTART:20180101T000000
END:STANDARD
END:VTIMEZONE
BEGIN:VEVENT
DTSTART;TZID=UTC:20191030T180000
DTEND;TZID=UTC:20191030T210000
DTSTAMP:20260424T201314
CREATED:20190808T020655Z
LAST-MODIFIED:20190808T020655Z
UID:528-1572458400-1572469200@cmacbus.com
SUMMARY:Order of Malta Center of Care Dinner
DESCRIPTION:2019 Dinner Flyer Clinic
URL:https://cmacbus.com/event/order-of-malta-center-of-care-dinner/
LOCATION:Jessing Center at The Pontificial College Josephinum\, 7625 North High Street\, Columbus\, OH\, 43235\, United States
CATEGORIES:Charity,Featured,Social
ATTACH;FMTTYPE=:
ORGANIZER;CN="Len Barbe":MAILTO:jwbarbe@aol.com
END:VEVENT
BEGIN:VEVENT
DTSTART;TZID=UTC:20191018T180000
DTEND;TZID=UTC:20191018T220000
DTSTAMP:20260424T201314
CREATED:20190918T180219Z
LAST-MODIFIED:20191008T013423Z
UID:703-1571421600-1571436000@cmacbus.com
SUMMARY:Diocesan White Mass
DESCRIPTION:Diocesan white mass for physicians and healthcare workers\nOctober 18th 2019 at 6pm\nFeast of Saint Luke \nPrincipal celebrant and homilist:\nBishop Robert Brennan\, Bishop of Columbus \nOur Lady of Victory\n1559 Roxbury Road\nColumbus\, oh 43212 \nReception to follow: Our Lady of Victory Social Hall\nSpeaker:\nVery reverend Steven Beseau\, Rector\, Pontifical College Josephinum \nIf attending the reception please RSVP to www.cmacbus.com so that we have adequate food\nNo RSVP needed for attending the mass\nQuestions? Call Marian at 614-769-5150 \n\n                \n                        The cost of attending the Diocesan White Mass is $25.00. Your contribution helps the Catholic Medical Association in Columbus\, Ohio assist medical professionals in practicing their faith. \n\nHowever\, if you are a student\, attendance is FREE.How Many Non-Students Are Attending?*012345Non-students are $25.00 eachHow Many Students Are Attending?*012345Students attend for freeTotal*\n					\n					\n						Price:\n						$0.00\n					\n					\n					\n				How did you hear about the CMA?*Contact InformationTitleMr.MissMrs.Ms.Dr.First Name* Middle Name Last Name* Suffix Address*    \n                    \n                         \n                                        \n                                        Street Address\n                                    \n                                        \n                                        Address Line 2\n                                    \n                                    \n                                    City\n                                 \n                                        \n                                        State / Province / Region\n                                      \n                                    \n                                    ZIP / Postal Code\n                                \n                                        AfghanistanAlbaniaAlgeriaAmerican SamoaAndorraAngolaAnguillaAntarcticaAntigua and BarbudaArgentinaArmeniaArubaAustraliaAustriaAzerbaijanBahamasBahrainBangladeshBarbadosBelarusBelgiumBelizeBeninBermudaBhutanBoliviaBonaire\, Sint Eustatius and SabaBosnia and HerzegovinaBotswanaBouvet IslandBrazilBritish Indian Ocean TerritoryBrunei DarussalamBulgariaBurkina FasoBurundiCabo VerdeCambodiaCameroonCanadaCayman IslandsCentral African RepublicChadChileChinaChristmas IslandCocos IslandsColombiaComorosCongoCongo\, Democratic Republic of theCook IslandsCosta RicaCroatiaCubaCuraçaoCyprusCzechiaCôte d'IvoireDenmarkDjiboutiDominicaDominican RepublicEcuadorEgyptEl SalvadorEquatorial GuineaEritreaEstoniaEswatiniEthiopiaFalkland IslandsFaroe IslandsFijiFinlandFranceFrench GuianaFrench PolynesiaFrench Southern TerritoriesGabonGambiaGeorgiaGermanyGhanaGibraltarGreeceGreenlandGrenadaGuadeloupeGuamGuatemalaGuernseyGuineaGuinea-BissauGuyanaHaitiHeard Island and McDonald IslandsHoly SeeHondurasHong KongHungaryIcelandIndiaIndonesiaIranIraqIrelandIsle of ManIsraelItalyJamaicaJapanJerseyJordanKazakhstanKenyaKiribatiKorea\, Democratic People's Republic ofKorea\, Republic ofKuwaitKyrgyzstanLao People's Democratic RepublicLatviaLebanonLesothoLiberiaLibyaLiechtensteinLithuaniaLuxembourgMacaoMadagascarMalawiMalaysiaMaldivesMaliMaltaMarshall IslandsMartiniqueMauritaniaMauritiusMayotteMexicoMicronesiaMoldovaMonacoMongoliaMontenegroMontserratMoroccoMozambiqueMyanmarNamibiaNauruNepalNetherlandsNew CaledoniaNew ZealandNicaraguaNigerNigeriaNiueNorfolk IslandNorth MacedoniaNorthern Mariana IslandsNorwayOmanPakistanPalauPalestine\, State ofPanamaPapua New GuineaParaguayPeruPhilippinesPitcairnPolandPortugalPuerto RicoQatarRomaniaRussian FederationRwandaRéunionSaint BarthélemySaint Helena\, Ascension and Tristan da CunhaSaint Kitts and NevisSaint LuciaSaint MartinSaint Pierre and MiquelonSaint Vincent and the GrenadinesSamoaSan MarinoSao Tome and PrincipeSaudi ArabiaSenegalSerbiaSeychellesSierra LeoneSingaporeSint MaartenSlovakiaSloveniaSolomon IslandsSomaliaSouth AfricaSouth Georgia and the South Sandwich IslandsSouth SudanSpainSri LankaSudanSurinameSvalbard and Jan MayenSwedenSwitzerlandSyria Arab RepublicTaiwanTajikistanTanzania\, the United Republic ofThailandTimor-LesteTogoTokelauTongaTrinidad and TobagoTunisiaTurkmenistanTurks and Caicos IslandsTuvaluTürkiyeUS Minor Outlying IslandsUgandaUkraineUnited Arab EmiratesUnited KingdomUnited StatesUruguayUzbekistanVanuatuVenezuelaViet NamVirgin Islands\, BritishVirgin Islands\, U.S.Wallis and FutunaWestern SaharaYemenZambiaZimbabweÅland Islands\n                                        Country\n                                    \n                    \n                Email*\n                            \n                        Phone*Please list all the guests who will be attending with your group*If attending alone\, please re-print your name.
URL:https://cmacbus.com/event/diocesan-white-mass/
LOCATION:Our Lady of Victory Church\, 1559 Roxbury Road\, Columbus\, OH\, 43212\, United States
CATEGORIES:Featured,Social
ATTACH;FMTTYPE=image/jpeg:https://cmacbus.com/wp-content/uploads/2019/09/josh-applegate-122366-unsplash.jpg
ORGANIZER;CN="Marian Schuda":MAILTO:schudamarian@gmail.com
END:VEVENT
BEGIN:VEVENT
DTSTART;TZID=UTC:20191010T190000
DTEND;TZID=UTC:20191010T210000
DTSTAMP:20260424T201314
CREATED:20190626T002822Z
LAST-MODIFIED:20190626T002822Z
UID:244-1570734000-1570741200@cmacbus.com
SUMMARY:Board Meeting October
DESCRIPTION:
URL:https://cmacbus.com/event/board-meeting-october/
LOCATION:St. Brendan Church\, 4475 Dublin Rd.\, Hilliard\, OH\, 43026\, United States
CATEGORIES:Board Meeting
END:VEVENT
BEGIN:VEVENT
DTSTART;TZID=UTC:20190921T063000
DTEND;TZID=UTC:20190921T220000
DTSTAMP:20260424T201314
CREATED:20190721T143505Z
LAST-MODIFIED:20190721T143505Z
UID:293-1569047400-1569103200@cmacbus.com
SUMMARY:Josephinum 4 Mile Run/Walk
DESCRIPTION:Support our seminarians by participating in the Josephinum 4 Mile Run/Walk on September 21.  The link to the sign up is below.  Several CMA members plan to participate.\n\nhttps://www.m3ssports.com/events/josephinum.htm
URL:https://cmacbus.com/event/josephinum-4-mile-run-walk/
LOCATION:The Club at Corazón\, 7155 Corazon Dr.\, Dublin\, OH\, 43016\, United States
END:VEVENT
BEGIN:VEVENT
DTSTART;TZID=UTC:20190912T190000
DTEND;TZID=UTC:20190912T210000
DTSTAMP:20260424T201314
CREATED:20190626T002737Z
LAST-MODIFIED:20190626T002737Z
UID:242-1568314800-1568322000@cmacbus.com
SUMMARY:Board Meeting September
DESCRIPTION:
URL:https://cmacbus.com/event/board-meeting-september/
LOCATION:St. Brendan Church\, 4475 Dublin Rd.\, Hilliard\, OH\, 43026\, United States
CATEGORIES:Board Meeting
END:VEVENT
BEGIN:VEVENT
DTSTART;TZID=UTC:20190825T180000
DTEND;TZID=UTC:20190825T220000
DTSTAMP:20260424T201314
CREATED:20190626T002221Z
LAST-MODIFIED:20190626T002221Z
UID:233-1566756000-1566770400@cmacbus.com
SUMMARY:Amberleigh Park
DESCRIPTION:Brats and hot dogs and drinks provided. A-M bring chips or fruit; N-Z bring dessert.
URL:https://cmacbus.com/event/amberleigh-park/
LOCATION:Amberleigh Park\, 4715 Vista Ridge Dr.\, Dublin\, OH\, 43017\, United States
CATEGORIES:Social
ORGANIZER;CN="Marian Schuda":MAILTO:schudamarian@gmail.com
END:VEVENT
BEGIN:VEVENT
DTSTART;TZID=UTC:20190825T113000
DTEND;TZID=UTC:20190825T140000
DTSTAMP:20260424T201314
CREATED:20190721T143241Z
LAST-MODIFIED:20190721T143241Z
UID:290-1566732600-1566741600@cmacbus.com
SUMMARY:Catholic Medical Association of Central Ohio’s Family Picnic
DESCRIPTION:Sunday\, August 25 from 11:30 a.m.-2:00 p.m. at Scioto Park in Dublin (7377 Riverside Drive)\nBrats\, hot dogs\, and drinks are provided.  Please bring a side dish or chips (last names A-M) or a dessert (last names N-Z).  Bring the whole family!
URL:https://cmacbus.com/event/catholic-medical-association-of-central-ohios-family-picnic/
LOCATION:Scioto Park\, 7377 Riverside Dr.\, Powell\, OH\, 43065\, United States
CATEGORIES:Social
END:VEVENT
BEGIN:VEVENT
DTSTART;TZID=UTC:20190724T200000
DTEND;TZID=UTC:20190724T220000
DTSTAMP:20260424T201314
CREATED:20190721T141740Z
LAST-MODIFIED:20190721T141740Z
UID:282-1563998400-1564005600@cmacbus.com
SUMMARY:CMA's Dr. Michael Parker & Dr. Paul Braaton to Appear LIVE on EWTN
DESCRIPTION:CMA’s Dr. Michael Parker and Dr. Paul Braaton will be guests on EWTN Live\, hosted by Fr. Mitch Pacwa. \nWhen: Wednesday\, July 24th\n8 p.m. EST\n(Encore TV air times: Thursday at 1:00 AM ET; Thursday at 9:00 AM ET; and Sunday at 4:00 AM ET.) \nThe doctors will discuss details about our upcoming Annual Educational Conference\, as well as the work and impact of the Catholic Medical Association. \nBe sure to share this exciting news with family and friends\, and encourage them to tune in! \n \nCMA Vice-President\nMichael S. Parker\, M.D. \nDr. Michael Parker is a native to the central Ohio area. He attended Kenyon College where he graduated cum laude with a Bachelors degree in Biology. In the fall of 1985\, he enrolled at The Ohio State University College of Medicine\, graduating with his doctorate in 1989. Dr. Parker then completed his residency training at The Ohio State University College of Medicine\, Department of Obstetrics and Gynecology in 1993. \nDr. Parker is board certified by the American Board of Obstetrics and Gynecology (1995) and a member of the American College of Obstetrics and Gynecology. He also has received additional training and certification as a Natural Family Planning medical consultant through The Pope Paul VI Institute for the Study of Human Reproduction in affiliation with Creighton University in Omaha\, Nebraska; and based on his Catholic and Pro-life beliefs\, changed his practice to Natural Family Planning only\, in 2004. \nDr. Parker currently serves as the Medical Director for Employed Obstetricians at Mount Carmel St. Ann Hospital in Westerville\, OH.\nAlong with members of the Catholic Medical Association of Central Ohio and the Order of Malta\, he helped establish the Order of Malta Center of Care in Columbus which provides free medical care to the homeless and underserved. As a member of the National Catholic Medical Association\, he has served many roles including Guild President\, Regional Director\, Board Secretary\, and Treasurer. \nDr. Parker and his wife Teresa live with their six children in Galena\, Ohio\, a suburb of Columbus. They are active in Pro-Life Causes\, Local Catholic Medical Association activities and attend St. Patrick Church. Dr. Parker is an active member of the Order of Malta. \n \nCMA FIAMC Representative\nPaul J. Braaton\, M.D. \nPaul Joseph Braaton\, M.D.\, is a board-certified\, fellowship-trained orthopedic surgeon specializing in the care of the foot and ankle. He has over thirteen years of private practice experience. \nDr. Braaton’s clinical interests and expertise include: foot & ankle reconstructive surgery\, ankle arthroscopy\, tendon problems\, diabetic foot neuropathy\, foot deformities\, fallen arch\, planter fascitis\, Achilles tendonitis and total ankle replacements. \nDr. Braaton received his Doctorate of Medicine degree from Creighton University School of Medicine in Omaha\, Nebraska. He completed a foot and ankle fellowship at the University of Texas and his residency at the University of Tennessee’s Campbell Clinic. He also served as a lieutenant commander in the United States Naval Reserve in 1997. \nDr. Braaton attended the Legion of Christ Seminary from March 1993 to March 1995. He has also volunteered on numerous medical mission trips to Mexico. He is currently an orthopedic surgical partner at the OrthoMed Center of Modesto\, CA.
URL:https://cmacbus.com/event/cmas-dr-michael-parker-dr-paul-braaton-to-appear-live-on-ewtn/
LOCATION:EWTN Live
CATEGORIES:EWTN
ATTACH;FMTTYPE=:
END:VEVENT
BEGIN:VEVENT
DTSTART;TZID=UTC:20190714T090000
DTEND;TZID=UTC:20190714T160000
DTSTAMP:20260424T201314
CREATED:20190626T001014Z
LAST-MODIFIED:20190626T001014Z
UID:223-1563094800-1563120000@cmacbus.com
SUMMARY:Basilica and Shrine of Our Lady of Consolation
DESCRIPTION:The Catholic Medical Association of Central Ohio invites you to travel to Carey\, Ohio to the Basilica and Shrine of Our Lady of Consolation on Sunday\, July 14. \n\n\n\n\n\nWe will leave Columbus from St. Agatha Parish\, 1800 Northam Road\, at 0900 (meet on the west side of the lot near the park) to arrive at the shrine in time for mass at 11:00 am.  Carpooling opportunities are available. \n\n\n\nAfter mass\, we will have a guided tour of the basilica and the lower level where relics\, testimonials of healing\, and abandoned crutches\, casts\, etc. are displayed.  After that\, relax in the gardens with a light lunch (bring a lunch or money for lunch from the snack bar on site).  Return to Columbus is planned by afternoon (likely between 3 and 4).  The Basilica web site is www.olcshrine.com. \n\n\n\nFor questions or concerns\, contact Marian Schuda on schudamarian@gmail.com \n\n\nPlease spread the word to any interested.  Hope to see you on July 14!
URL:https://cmacbus.com/event/basilica-and-shrine-of-our-lady-of-consolation/
LOCATION:Basilica And National Shrine Of Our Lady Of Consolation\, 315 Clay St.\, Carey\, OH\, 43316\, United States
CATEGORIES:Mass
ATTACH;FMTTYPE=:
ORGANIZER;CN="Marian Schuda":MAILTO:schudamarian@gmail.com
END:VEVENT
BEGIN:VEVENT
DTSTART;TZID=UTC:20190711T190000
DTEND;TZID=UTC:20190711T210000
DTSTAMP:20260424T201314
CREATED:20190626T002505Z
LAST-MODIFIED:20190626T002505Z
UID:236-1562871600-1562878800@cmacbus.com
SUMMARY:Board Meeting July
DESCRIPTION:
URL:https://cmacbus.com/event/board-meeting-july/
LOCATION:St. Brendan Church\, 4475 Dublin Rd.\, Hilliard\, OH\, 43026\, United States
CATEGORIES:Board Meeting
END:VEVENT
END:VCALENDAR