BEGIN:VCALENDAR
VERSION:2.0
PRODID:-//Catholic Medical Association - ECPv6.15.20//NONSGML v1.0//EN
CALSCALE:GREGORIAN
METHOD:PUBLISH
X-ORIGINAL-URL:https://cmacbus.com
X-WR-CALDESC:Events for Catholic Medical Association
REFRESH-INTERVAL;VALUE=DURATION:PT1H
X-Robots-Tag:noindex
X-PUBLISHED-TTL:PT1H
BEGIN:VTIMEZONE
TZID:UTC
BEGIN:STANDARD
TZOFFSETFROM:+0000
TZOFFSETTO:+0000
TZNAME:UTC
DTSTART:20220101T000000
END:STANDARD
END:VTIMEZONE
BEGIN:VEVENT
DTSTART;TZID=UTC:20230813T120000
DTEND;TZID=UTC:20230813T170000
DTSTAMP:20260424T214747
CREATED:20230728T204808Z
LAST-MODIFIED:20230729T002301Z
UID:1143-1691928000-1691946000@cmacbus.com
SUMMARY:Summer picnic\, Sunday\, August 13
DESCRIPTION:Summer picnic\, Sunday\, August 13\, Noon….immediately following 11 AM mass at Saint John Neumann\, Sunbury. \nHome of Greg and Dorie France \n797 Carters Corners Road\, Sunbury \nBrats\, hots dogs\, salads\, water & fruit spritzers provided. \n\nLast name A-M bring chips or appetizers\nLast name N-Z bring dessert\n\nSign up for the event here
URL:https://cmacbus.com/event/summer-picnic-sunday-august-13/
LOCATION:797 Carters Corner Road\, 797 Carters Corner Road\, Sunbury\, OH\, 43074\, United States
CATEGORIES:Summer Picnic
ATTACH;FMTTYPE=image/jpeg:https://cmacbus.com/wp-content/uploads/2022/08/emerson-vieira-cpkPJ-U9eUM-unsplash-scaled.jpg
END:VEVENT
END:VCALENDAR