BEGIN:VCALENDAR
VERSION:2.0
PRODID:-//Catholic Medical Association - ECPv6.15.20//NONSGML v1.0//EN
CALSCALE:GREGORIAN
METHOD:PUBLISH
X-WR-CALNAME:Catholic Medical Association
X-ORIGINAL-URL:https://cmacbus.com
X-WR-CALDESC:Events for Catholic Medical Association
REFRESH-INTERVAL;VALUE=DURATION:PT1H
X-Robots-Tag:noindex
X-PUBLISHED-TTL:PT1H
BEGIN:VTIMEZONE
TZID:UTC
BEGIN:STANDARD
TZOFFSETFROM:+0000
TZOFFSETTO:+0000
TZNAME:UTC
DTSTART:20200101T000000
END:STANDARD
END:VTIMEZONE
BEGIN:VEVENT
DTSTART;TZID=UTC:20220828T120000
DTEND;TZID=UTC:20220828T150000
DTSTAMP:20260424T204134
CREATED:20220801T000942Z
LAST-MODIFIED:20220801T002026Z
UID:1102-1661688000-1661698800@cmacbus.com
SUMMARY:CATHOLIC MEDICAL ASSOCIATON ANNUAL PICNIC
DESCRIPTION:The Catholic Medical Association of Central Ohio would like to invite you to our annual picnic to say “hello” to medical students and residents and to say “goodbye” to another great summer! \nThe event will be held on Sunday\, August 28\, 2022 at the home of Drs. Dorie and Greg France in Sunbury\, OH. The picnic and get together will begin at 12PM\, and end about 3PM. \nFamilies and spouses and significant others are most welcome. \nSome of us will be attending Mass at 11AM just before\, at St. John Neumann Church in Sunbury: 9633 E\, OH-37\, Sunbury\, OH 43074. Please do come to Mass beforehand if you wish and make a day of it in beautiful Sunbury! \nThe new Director Of Evangelization of the Newman Center at OSU\, Fr. Adam\, has also graciously accepted our invitation to attend and would love to meet physicians\, nurses\, and most importantly–students and young people! \nWe ask anyone who is able bring something to the picnic based on your last name\, for about 8 people (students and residents are exempt!): \nA-I: Side \nJ-R: Dessert \nS-Z: Drinks \nPlease RSVP using the link below\, or at the CMA website (https://cmacbus.com)\, and remember to let us know whom you are bringing\, and what you are bringing! Looking forward to seeing you all for faith\, food\, and fellowship! \nGod bless\, \nCMA Leadership \nRSVP here or fill out the form below: Free Online Invitations\, Premium Cards and Party Ideas | Evite\n\n                \n                        Your Name(Required) How Many Are Attending With You?(Required)What Are Your Bringing?(Required) Please remember to bring something to the picnic based on your last name\, for about 8 people
URL:https://cmacbus.com/event/catholic-medical-associaton-annual-picnic/
LOCATION:The Drs. Dorie and Greg France Homestead\, 797 Carters Corner Rd.\, Sunbury\, OH\, 43074\, United States
CATEGORIES:Featured,Picnic,Social
ATTACH;FMTTYPE=image/jpeg:https://cmacbus.com/wp-content/uploads/2022/08/emerson-vieira-cpkPJ-U9eUM-unsplash-scaled.jpg
END:VEVENT
BEGIN:VEVENT
DTSTART;TZID=UTC:20210801T160000
DTEND;TZID=UTC:20210801T180000
DTSTAMP:20260424T204134
CREATED:20210713T230024Z
LAST-MODIFIED:20210801T154103Z
UID:1039-1627833600-1627840800@cmacbus.com
SUMMARY:August Picnic
DESCRIPTION:Date: Sunday\, August 1\, 2021\nTime: 4-6 pm\nLocation: 797 Carters Corner Road\, Sunbury; just north of St John Neumann Church \nAdditional:\nBrats\, hot dogs\, buns\, water\, and soft drinks provided\nNo charge for the event\nIf able\, bring chips or appetizer (last names A-M) or dessert (last names N-Z)\nRain or shine \nPlease RSVP for the event by filling out the form below\, so we have an accurate headcount. \n\n                \n                        Your Name(Required) How Many Are Attending With You?(Required)
URL:https://cmacbus.com/event/august-picnic/
LOCATION:797 Carters Corner Road\, 797 Carters Corner Road\, Sunbury\, OH\, 43074\, United States
CATEGORIES:Featured,Picnic
ATTACH;FMTTYPE=image/jpeg:https://cmacbus.com/wp-content/uploads/2020/08/picnic.jpg
END:VEVENT
END:VCALENDAR