BEGIN:VCALENDAR
VERSION:2.0
PRODID:-//Catholic Medical Association - ECPv6.15.20//NONSGML v1.0//EN
CALSCALE:GREGORIAN
METHOD:PUBLISH
X-WR-CALNAME:Catholic Medical Association
X-ORIGINAL-URL:https://cmacbus.com
X-WR-CALDESC:Events for Catholic Medical Association
REFRESH-INTERVAL;VALUE=DURATION:PT1H
X-Robots-Tag:noindex
X-PUBLISHED-TTL:PT1H
BEGIN:VTIMEZONE
TZID:UTC
BEGIN:STANDARD
TZOFFSETFROM:+0000
TZOFFSETTO:+0000
TZNAME:UTC
DTSTART:20200101T000000
END:STANDARD
END:VTIMEZONE
BEGIN:VEVENT
DTSTART;TZID=UTC:20211211T183000
DTEND;TZID=UTC:20211211T200000
DTSTAMP:20260424T184231
CREATED:20211114T101130Z
LAST-MODIFIED:20211114T101130Z
UID:1064-1639247400-1639252800@cmacbus.com
SUMMARY:Christmas Dinner 2021
DESCRIPTION:You are invited to celebrate with us for our annual Christmas Party!  \n\nAfter the Saturday evening 5:30 Mass\, we will head to the parish center for an evening of good food\,  drinks\, and company.  We will provide City Barbecue\, water\, and wine.  If you are able\, please consider bringing a dozen Christmas cookies or other holiday desserts to share. Your Name*\n                            \n                            \n                                                    \n                                                    First\n                                                \n                            \n                            \n                                                    \n                                                    Last\n                                                \n                            \n                        Email*\n                            \n                        PhoneHow Many Are Attending In Your Group?*CAPTCHA
URL:https://cmacbus.com/event/christmas-dinner-2021/
LOCATION:St. Brendan Church\, 4475 Dublin Rd.\, Hilliard\, OH\, 43026\, United States
CATEGORIES:Featured,Party
ATTACH;FMTTYPE=image/jpeg:https://cmacbus.com/wp-content/uploads/2021/11/Optimized-Christmas-Dinner-2021.jpg
END:VEVENT
END:VCALENDAR